BEGIN:VCALENDAR
VERSION:2.0
PRODID:-//Squarespace Inc/Squarespace 6//v6//EN
BEGIN:VEVENT
UID:58513da26a496378d70adf7d@squarespace.com
DTSTAMP:20161215T121330Z
DTSTART:20161216T230000Z
DTEND:20161217T000000Z
SUMMARY:Saturday Heart Foundation Nordic walking
END:VEVENT
END:VCALENDAR
