BEGIN:VCALENDAR
VERSION:2.0
PRODID:-//Squarespace Inc/Squarespace 6//v6//EN
BEGIN:VEVENT
UID:585367b4e3df28f58aa1de9f@squarespace.com
DTSTAMP:20161216T040918Z
DTSTART:20161217T230000Z
DTEND:20161218T000000Z
SUMMARY:Jindalee Nordic walking
END:VEVENT
END:VCALENDAR
