BEGIN:VCALENDAR
VERSION:2.0
PRODID:-//Squarespace Inc/Squarespace 6//v6//EN
BEGIN:VEVENT
UID:585264c637c581861450f9b5@squarespace.com
DTSTAMP:20161215T095544Z
DTSTART:20161218T230000Z
DTEND:20161219T000000Z
SUMMARY:Nordic walking for Fitness
END:VEVENT
END:VCALENDAR
