BEGIN:VCALENDAR
VERSION:2.0
PRODID:-//Squarespace Inc/Squarespace 6//v6//EN
BEGIN:VEVENT
UID:5bd535957817f7eb1186fc00@squarespace.com
DTSTAMP:20181028T040607Z
DTSTART:20181026T100000Z
DTEND:20181026T110000Z
SUMMARY:Twilight Roller skiing -Free event 
GEO:-31.975574;115.866969
LOCATION:Douglas Ave\, South Perth\, WA\, 6151\, Australia
END:VEVENT
END:VCALENDAR
