BEGIN:VCALENDAR
VERSION:2.0
PRODID:-//Squarespace Inc/Squarespace 6//v6//EN
BEGIN:VEVENT
UID:5b9343ee70a6adfadf30b1bf@squarespace.com
DTSTAMP:20181021T055844Z
DTSTART:20181026T093000Z
DTEND:20181026T103000Z
SUMMARY:Twilight Roller skiing -Free event 
GEO:-31.975574;115.866969
LOCATION:Douglas Ave\, South Perth\, WA\, 6151\, Australia
END:VEVENT
END:VCALENDAR
