BEGIN:VCALENDAR
VERSION:2.0
PRODID:-//Squarespace Inc/Squarespace 6//v6//EN
BEGIN:VEVENT
UID:5bf0d2158a922ddcedc31b92@squarespace.com
DTSTAMP:20190519T090134Z
DTSTART:20190524T100000Z
DTEND:20190524T110000Z
SUMMARY:Twilight Roller skiing -Free event 
GEO:-31.975574;115.866969
LOCATION:Douglas Ave\, South Perth\, WA\, 6151\, Australia
END:VEVENT
END:VCALENDAR
