BEGIN:VCALENDAR
VERSION:2.0
PRODID:-//Squarespace Inc/Squarespace 6//v6//EN
BEGIN:VEVENT
UID:5bd535d5652dea6b53fe1fa8@squarespace.com
DTSTAMP:20200229T234424Z
DTSTART:20200301T230000Z
DTEND:20200302T000000Z
SUMMARY:Monday Fitness walk
END:VEVENT
END:VCALENDAR
