BEGIN:VCALENDAR
VERSION:2.0
PRODID:-//Squarespace Inc/Squarespace 6//v6//EN
BEGIN:VEVENT
UID:5baebde7ec212d4ecd48524b@squarespace.com
DTSTAMP:20181014T025158Z
DTSTART:20181014T230000Z
DTEND:20181015T000000Z
SUMMARY:Monday Fitness walk
END:VEVENT
END:VCALENDAR
