BEGIN:VCALENDAR
VERSION:2.0
PRODID:-//Squarespace Inc/Squarespace 6//v6//EN
BEGIN:VEVENT
UID:5b9e2477032be486708c9b9e@squarespace.com
DTSTAMP:20181021T055619Z
DTSTART:20181021T230000Z
DTEND:20181022T000000Z
SUMMARY:Monday Fitness walk
END:VEVENT
END:VCALENDAR
