BEGIN:VCALENDAR
VERSION:2.0
PRODID:-//Squarespace Inc/Squarespace 6//v6//EN
BEGIN:VEVENT
UID:5ca01bca1837780001e69ed4@squarespace.com
DTSTAMP:20200229T234520Z
DTSTART:20200304T233000Z
DTEND:20200305T003000Z
SUMMARY:Thursday Fitness walk
END:VEVENT
END:VCALENDAR
