BEGIN:VCALENDAR
VERSION:2.0
PRODID:-//Squarespace Inc/Squarespace 6//v6//EN
BEGIN:VEVENT
UID:5bf0d23c032be406b19a3995@squarespace.com
DTSTAMP:20190406T002638Z
DTSTART:20190410T230000Z
DTEND:20190411T000000Z
SUMMARY:Thursday Fitness walk
END:VEVENT
END:VCALENDAR
