BEGIN:VCALENDAR
VERSION:2.0
PRODID:-//Squarespace Inc/Squarespace 6//v6//EN
BEGIN:VEVENT
UID:5bd53559652dea6b53fe1bc8@squarespace.com
DTSTAMP:20181111T022843Z
DTSTART:20181114T230000Z
DTEND:20181115T000000Z
SUMMARY:Thursday Fitness walk
END:VEVENT
END:VCALENDAR
