BEGIN:VCALENDAR
VERSION:2.0
PRODID:-//Squarespace Inc/Squarespace 6//v6//EN
BEGIN:VEVENT
UID:5bcc151053450a8374d87248@squarespace.com
DTSTAMP:20181021T055715Z
DTSTART:20181024T230000Z
DTEND:20181025T000000Z
SUMMARY:Thursday Fitness walk
END:VEVENT
END:VCALENDAR
