BEGIN:VCALENDAR
VERSION:2.0
PRODID:-//Squarespace Inc/Squarespace 6//v6//EN
BEGIN:VEVENT
UID:5bb950db4785d317a3ea3bdc@squarespace.com
DTSTAMP:20181007T001922Z
DTSTART:20181010T230000Z
DTEND:20181011T000000Z
SUMMARY: Thursday Fitness walk
END:VEVENT
END:VCALENDAR
