BEGIN:VCALENDAR
VERSION:2.0
PRODID:-//Squarespace Inc/Squarespace 6//v6//EN
BEGIN:VEVENT
UID:5bf0d26489858303787b1f68@squarespace.com
DTSTAMP:20200229T234345Z
DTSTART:20200306T230000Z
DTEND:20200307T000000Z
SUMMARY:Saturday Explorer walk 
END:VEVENT
END:VCALENDAR
