BEGIN:VCALENDAR
VERSION:2.0
PRODID:-//Squarespace Inc/Squarespace 6//v6//EN
BEGIN:VEVENT
UID:5b9e24cd21c67c4506122262@squarespace.com
DTSTAMP:20190417T064657Z
DTSTART:20190419T230000Z
DTEND:20190420T000000Z
SUMMARY:Saturday Explorer walk 
END:VEVENT
END:VCALENDAR
