BEGIN:VCALENDAR
VERSION:2.0
PRODID:-//Squarespace Inc/Squarespace 6//v6//EN
BEGIN:VEVENT
UID:5bd53516a4222f44309d249c@squarespace.com
DTSTAMP:20181028T040429Z
DTSTART:20181102T230000Z
DTEND:20181103T000000Z
SUMMARY:Saturday Explorer walk 
END:VEVENT
END:VCALENDAR
