BEGIN:VCALENDAR
VERSION:2.0
PRODID:-//Squarespace Inc/Squarespace 6//v6//EN
BEGIN:VEVENT
UID:5baebf12e5e5f0634daf4a38@squarespace.com
DTSTAMP:20181021T055511Z
DTSTART:20181026T230000Z
DTEND:20181027T000000Z
SUMMARY:Saturday Explorer walk 
END:VEVENT
END:VCALENDAR
