BEGIN:VCALENDAR
VERSION:2.0
PRODID:-//Squarespace Inc/Squarespace 6//v6//EN
BEGIN:VEVENT
UID:5b4bdff00e2e72d65fb4dbb5@squarespace.com
DTSTAMP:20190930T004657Z
DTSTART:20191005T020000Z
DTEND:20191005T030000Z
SUMMARY:Roller Ski Social Ride Viveash to Woodbridge 
END:VEVENT
END:VCALENDAR
