BEGIN:VCALENDAR
VERSION:2.0
PRODID:-//Squarespace Inc/Squarespace 6//v6//EN
BEGIN:VEVENT
UID:5b9e259521c67c45061225c0@squarespace.com
DTSTAMP:20200229T234445Z
DTSTART:20200303T000000Z
DTEND:20200407T000100Z
SUMMARY:Tuesday Over 55s Nordic walking
END:VEVENT
END:VCALENDAR
