BEGIN:VCALENDAR
VERSION:2.0
PRODID:-//Squarespace Inc/Squarespace 6//v6//EN
BEGIN:VEVENT
UID:5bcc15ac9140b756451ef7cf@squarespace.com
DTSTAMP:20181021T060258Z
DTSTART:20181027T073000Z
DTEND:20181027T083000Z
SUMMARY:Ski without snow - Rollerskiing 2 for 1
END:VEVENT
END:VCALENDAR
