BEGIN:VCALENDAR
VERSION:2.0
PRODID:-//Squarespace Inc/Squarespace 6//v6//EN
BEGIN:VEVENT
UID:5bf0d29c0e2e72908dbeca4f@squarespace.com
DTSTAMP:20200223T060716Z
DTSTART:20200307T080000Z
DTEND:20200307T090000Z
SUMMARY:Learn to ski without snow - Rollerskiing Perth 
END:VEVENT
END:VCALENDAR
