BEGIN:VCALENDAR
VERSION:2.0
PRODID:-//Squarespace Inc/Squarespace 6//v6//EN
BEGIN:VEVENT
UID:5bd5361324a69425bd08761e@squarespace.com
DTSTAMP:20190304T123519Z
DTSTART:20190309T080000Z
DTEND:20190309T090000Z
SUMMARY:Learn to ski without snow - Rollerskiing Perth 
END:VEVENT
END:VCALENDAR
