BEGIN:VCALENDAR
VERSION:2.0
PRODID:-//Squarespace Inc/Squarespace 6//v6//EN
BEGIN:VEVENT
UID:5bb951b771c10b92926f672b@squarespace.com
DTSTAMP:20181224T010134Z
DTSTART:20190105T080000Z
DTEND:20190105T090000Z
SUMMARY:Learn to ski without snow - Introduction clinic
GEO:-32.011571;115.876476
LOCATION:George burnett leisure centre\, State Route 26\, Karawara\, WA\, 6
 152\, Australia
END:VEVENT
END:VCALENDAR
