BEGIN:VCALENDAR
VERSION:2.0
PRODID:-//Squarespace Inc/Squarespace 6//v6//EN
BEGIN:VEVENT
UID:5b9e241370a6ad3a541e0caa@squarespace.com
DTSTAMP:20181014T025817Z
DTSTART:20181018T024500Z
DTEND:20181018T034500Z
SUMMARY:Vic Park over 55s Nordic walking
END:VEVENT
END:VCALENDAR
