BEGIN:VCALENDAR
VERSION:2.0
PRODID:-//Squarespace Inc/Squarespace 6//v6//EN
BEGIN:VEVENT
UID:5b81e55c575d1f3286c6ce5f@squarespace.com
DTSTAMP:20181104T121002Z
DTSTART:20181108T024500Z
DTEND:20181108T034500Z
SUMMARY:Vic Park over 55s Nordic walking
END:VEVENT
END:VCALENDAR
