BEGIN:VCALENDAR
VERSION:2.0
PRODID:-//Squarespace Inc/Squarespace 6//v6//EN
BEGIN:VEVENT
UID:5d9d549de9825e191c4d969c@squarespace.com
DTSTAMP:20191026T001132Z
DTSTART:20191026T073000Z
DTEND:20191026T083000Z
SUMMARY:Roller Ski Social Ride
GEO:-31.974175;115.868734
LOCATION:Clydesdale reserve\, Perth\, Australia
END:VEVENT
END:VCALENDAR
