BEGIN:VCALENDAR
VERSION:2.0
PRODID:-//Squarespace Inc/Squarespace 6//v6//EN
BEGIN:VEVENT
UID:5ca7f0447817f75f41df5f5d@squarespace.com
DTSTAMP:20190406T002427Z
DTSTART:20190414T010000Z
DTEND:20190414T020000Z
SUMMARY:Come &amp\; Try Roller ski Canberra 
GEO:-35.262951;149.164021
LOCATION:Queen Elizabeth Terrace\, Parkes\, ACT\, 2600\, Australia
END:VEVENT
END:VCALENDAR
